Workbook
Name _ftn1: 'Clienti serviti'!#REF!
Name _ftnref1: 'Clienti serviti'!$B$2

Sheet Regole di compilazione
A1: Regole di compilazione
A4: Le celle verdi devono essere compilate dal venditore
A5: Le celle grigie sono compilate automaticamente dal sistema
A6: Dopo aver indicato la categoria contrattuale gestita nella sezione Selezione categorie, si attiveranno automaticamente le schede di competenza da compilare
A7: La raccolta dati non deve essere effettuata dalle imprese che servono esclusivamente clienti MT o con consumi >200.000 Smc/anno; l'obbligo di comunicazione è assolto dichiarando tale cicostanza nella tabella Selezione categorie.
A8: Le schede e i dati relativi ai clienti serviti in ultima istanza gas (FUI) decorrono dalla raccolta dati 2028 (dati 2027)
A9: I dati relativi alle piccole imprese servite in ultima istanza elettricità (STG) decorrono dalla raccolta dati 2028 (dati 2027)
A10: Tutte le celle di competenza del venditore devono essere compilate, anche in caso di valore zero (non sono previsti valori predefiniti e non sono ammesse celle vuote)
A11: L'invio definitivo può avvenire solo dopo la visualizzazione delle schede relative agli indicatori di prestazione (tempi medi e reclami ogni mille clienti) compilate dal sistema

Sheet Selezione categorie
A1: A | B1: Selezione delle categorie contrattuali rilevanti ai fini della comunicazione
B4: Categoria contrattuale | C4: Servizio
C5: Elettrico | D5: Gas
B6: Cliente domestico del mercato libero | C6: TRUE | D6: TRUE
B7: Cliente domestico in vulnerabilità | C7: FALSE | D7: TRUE
B8: Cliente domestico in ultima istanza | C8: FALSE | D8: FALSE
B9: Cliente non domestico del mercato libero | C9: TRUE | D9: TRUE
B10: Cliente non domestico in ultima istanza | C10: FALSE | D10: FALSE
B12: Servizio eletrico: l'impresa serve esclusivamente clienti di energia elettrica alimentati in MT? | C12: FALSE
B13: Servizio gas: l'impresa serve esclusivamente clienti con consumi complessivi superiori a 200.000 Smc/anno? | D13: FALSE

Sheet Clienti serviti
A1: 1 | B1: Clienti serviti (articolo 36.1)
B3: FORNITURA | C3: ELETTRICA | H3: GAS | M3: CONGIUNTA | P3: totale forniture | V3: totale forniture
B4: categoria contrattuale | C4: Cliente domestico del mercato libero | D4: Cliente domestico in vulnerabilità | E4: Cliente domestico in ultima istanza | F4: Cliente non domestico del mercato libero | G4: Cliente non domestico in ultima istanza | H4: Cliente domestico del mercato libero | I4: Cliente domestico in vulnerabilità | J4: Cliente domestico in ultima istanza | K4: Cliente non domestico del mercato libero | L4: Cliente non domestico in ultima istanza | M4: Cliente domestico del mercato libero | N4: Cliente non domestico del mercato libero | P4: domestici mercato libero | Q4: domestici vulnerabilità | R4: domestici ultima istanza | S4: non domestici mercato libero | T4: non domestici ultima istanza
B5: gennaio | C5: 0 | D5: 0 | E5: 0 | F5: 0 | G5: 0 | H5: 0 | I5: 0 | J5: 0 | K5: 0 | L5: 0 | M5: 0 | N5: 0 | P5: =C5+H5+M5*2 -> 0 | Q5: =D5+I5 -> 0 | R5: - | S5: =F5+K5+N5*2 -> 0 | T5: - | V5: =SUM(P5:T5) -> 0
B6: febbraio | C6: 25000 | D6: 0 | E6: 0 | F6: 0 | G6: 0 | H6: 0 | I6: 0 | J6: 0 | K6: 0 | L6: 0 | M6: 0 | N6: 0 | P6: =C6+H6+M6*2 -> 25000 | Q6: =D6+I6 -> 0 | R6: - | S6: =F6+K6+N6*2 -> 0 | T6: - | V6: =SUM(P6:T6) -> 25000
B7: marzo | C7: 250000 | D7: 0 | E7: 0 | F7: 0 | G7: 0 | H7: 50000 | I7: 0 | J7: 0 | K7: 0 | L7: 0 | M7: 0 | N7: 0 | P7: =C7+H7+M7*2 -> 300000 | Q7: =D7+I7 -> 0 | R7: - | S7: =F7+K7+N7*2 -> 0 | T7: - | V7: =SUM(P7:T7) -> 300000
B8: aprile | C8: 250000 | D8: 0 | E8: 0 | F8: 0 | G8: 0 | H8: 100000 | I8: 25000 | J8: 0 | K8: 0 | L8: 0 | M8: 10000 | N8: 0 | P8: =C8+H8+M8*2 -> 370000 | Q8: =D8+I8 -> 25000 | R8: - | S8: =F8+K8+N8*2 -> 0 | T8: - | V8: =SUM(P8:T8) -> 395000
B9: maggio | C9: 250000 | D9: 0 | E9: 0 | F9: 0 | G9: 0 | H9: 100000 | I9: 50000 | J9: 0 | K9: 0 | L9: 0 | M9: 15000 | N9: 0 | P9: =C9+H9+M9*2 -> 380000 | Q9: =D9+I9 -> 50000 | R9: - | S9: =F9+K9+N9*2 -> 0 | T9: - | V9: =SUM(P9:T9) -> 430000
B10: giugno | C10: 250000 | D10: 0 | E10: 0 | F10: 0 | G10: 0 | H10: 100000 | I10: 100000 | J10: 0 | K10: 5000 | L10: 0 | M10: 20000 | N10: 0 | P10: =C10+H10+M10*2 -> 390000 | Q10: =D10+I10 -> 100000 | R10: - | S10: =F10+K10+N10*2 -> 5000 | T10: - | V10: =SUM(P10:T10) -> 495000
B11: luglio | C11: 250000 | D11: 0 | E11: 0 | F11: 0 | G11: 0 | H11: 100000 | I11: 150000 | J11: 0 | K11: 10000 | L11: 0 | M11: 20000 | N11: 0 | P11: =C11+H11+M11*2 -> 390000 | Q11: =D11+I11 -> 150000 | R11: - | S11: =F11+K11+N11*2 -> 10000 | T11: - | V11: =SUM(P11:T11) -> 550000
B12: agosto | C12: 250000 | D12: 0 | E12: 0 | F12: 0 | G12: 0 | H12: 100000 | I12: 200000 | J12: 0 | K12: 20000 | L12: 0 | M12: 20000 | N12: 0 | P12: =C12+H12+M12*2 -> 390000 | Q12: =D12+I12 -> 200000 | R12: - | S12: =F12+K12+N12*2 -> 20000 | T12: - | V12: =SUM(P12:T12) -> 610000
B13: settembre | C13: 250000 | D13: 0 | E13: 0 | F13: 0 | G13: 0 | H13: 100000 | I13: 250000 | J13: 0 | K13: 40000 | L13: 0 | M13: 20000 | N13: 0 | P13: =C13+H13+M13*2 -> 390000 | Q13: =D13+I13 -> 250000 | R13: - | S13: =F13+K13+N13*2 -> 40000 | T13: - | V13: =SUM(P13:T13) -> 680000
B14: ottobre | C14: 250000 | D14: 0 | E14: 0 | F14: 0 | G14: 0 | H14: 100000 | I14: 300000 | J14: 0 | K14: 80000 | L14: 0 | M14: 20000 | N14: 0 | P14: =C14+H14+M14*2 -> 390000 | Q14: =D14+I14 -> 300000 | R14: - | S14: =F14+K14+N14*2 -> 80000 | T14: - | V14: =SUM(P14:T14) -> 770000
B15: novembre | C15: 250000 | D15: 0 | E15: 0 | F15: 0 | G15: 0 | H15: 100000 | I15: 350000 | J15: 0 | K15: 160000 | L15: 0 | M15: 20000 | N15: 0 | P15: =C15+H15+M15*2 -> 390000 | Q15: =D15+I15 -> 350000 | R15: - | S15: =F15+K15+N15*2 -> 160000 | T15: - | V15: =SUM(P15:T15) -> 900000
B16: dicembre | C16: 250000 | D16: 0 | E16: 0 | F16: 0 | G16: 0 | H16: 100000 | I16: 400000 | J16: 0 | K16: 200000 | L16: 0 | M16: 20000 | N16: 0 | P16: =C16+H16+M16*2 -> 390000 | Q16: =D16+I16 -> 400000 | R16: - | S16: =F16+K16+N16*2 -> 200000 | T16: - | V16: =SUM(P16:T16) -> 990000
C19: NUMERO MEDIO CLIENTI
C20: Cliente domestico del mercato libero | D20: Cliente domestico in vulnerabilità | E20: Cliente domestico in ultima istanza | F20: Cliente non domestico del mercato libero | G20: Cliente non domestico in ultima istanza | H20: numero medio complessivo
C21: =SUM(P5:P16)/COUNTIF(P5:P16,">0") -> 345909.09 | D21: =SUM(Q5:Q16)/COUNTIF(Q5:Q16,">0") -> 202777.78 | E21: - | F21: =SUM(S5:S16)/COUNTIF(S5:S16,">0") -> 73571.429 | G21: - | H21: =SUM(V5:V16)/COUNTIF(V5:V16,">0") -> 558636.36
B24: NOTE
B25: celle verdi | C25: dati inseriti dalle imprese (inserire il numero di contratti attivi nell'ultimo giorno di ogni mese
B26: celle grigie | C26: calcoli intermedi e dati calcolati automaticamente dal sistema
B27: Le imprese inseriscono il numero di CONTRATTI attivi nell'ultimo giorno di ciascun mese
B28: La raccolta prosegue solo se l'impresa dichiara di servire clienti nel mese di dicembre.

Sheet Reclami ricevuti dom-lib
A1: 2.1 | B1: Reclami scritti ricevuti (articolo 36.2)
B2: Clienti domestici del mercato libero
B4: Argomento reclamo | C4: Totale per argomento (elettrico, gas, aspetti comuni) | D4: Sub argomento reclamo | E4: Reclami per fornitura elettrica | F4: Reclami per fornitura gas | G4: Reclami per aspetti comuni
B5: Contratti | C5: =SUM(E5:G8) -> 700 | D5: Recesso | E5: 100 | F5: 50 | G5: 25
D6: Volture e subentri | E6: 100 | F6: 50 | G6: 25
D7: Modifiche unilaterali | E7: 100 | F7: 50 | G7: 25
D8: Altro | E8: 100 | F8: 50 | G8: 25
B9: Morosità e sospensione | C9: =SUM(E9:G12) -> 440 | D9: Morosità | E9: 100 | F9: 0 | G9: 10
D10: Sospensione e riattivazione | E10: 100 | F10: 0 | G10: 10
D11: Cmor (Corrispettivo morosità pregresse) | E11: 100 | F11: 0 | G11: 10
D12: Altro | E12: 100 | F12: 0 | G12: 10
B13: Mercato | C13: =SUM(E13:G17) -> 1 | D13: Presunti contratti non richiesti
D14: Cambio fornitore | E14: 1
D15: Condizioni economiche nuovi contratti
D16: Doppia fatturazione
D17: Altro
B18: Fatturazione | C18: =SUM(E18:G24) -> 2 | D18: Autolettura (uso della)
D19: Ricalcoli
D20: Consumi stimati errati | E20: 2
D21: Periodicità e fattura di chiusura
D22: Pagamenti e rimborsi
D23: Importi per consumi risalenti a più di due anni per i quali non risulti maturata la prescrizione
D24: Altro
B25: Misura | C25: =SUM(E25:G28) -> 3 | D25: Cambio misuratore
D26: Verifica e ricostruzioni
D27: Mancate letture | E27: 3
D28: Altro
B29: Connessioni, lavori e qualità tecnica | C29: =SUM(E29:G33) -> 4 | D29: Preventivi/attivazioni/lavori (tempi e costi)
D30: Continuità | E30: 4
D31: Valori della tensione/pressione
D32: Sicurezza
D33: Altro
B34: Bonus sociale | C34: =SUM(E34:G37) -> 5 | D34: Validazioni
D35: Cessazioni | E35: 5
D36: Erogazioni
D37: Altro
B38: Qualità commerciale | C38: =SUM(E38:G40) -> 6 | D38: Servizio clienti (call center, sportelli, altri servizi)
D39: Indennizzi
D40: Altro | E40: 6
B41: Altro | C41: =SUM(E41:G41) -> 7 | E41: 7
...

Sheet Reclami ricevuti dom-vuln
A1: 2.2 | B1: Reclami scritti ricevuti (articolo 36.2)
B2: Clienti domestici in vulnerabilità
B4: Argomento reclamo | C4: Totale per argomento (elettrico, gas, aspetti comuni) | D4: Sub argomento reclamo | E4: Reclami per fornitura elettrica | F4: Reclami per fornitura gas
B5: Contratti | C5: =SUM(E5:F8) -> 600 | D5: Recesso | E5: 100 | F5: 50
D6: Volture e subentri | E6: 100 | F6: 50
D7: Modifiche unilaterali | E7: 100 | F7: 50
D8: Altro | E8: 100 | F8: 50
B9: Morosità e sospensione | C9: =SUM(E9:F12) -> 400 | D9: Morosità | E9: 100 | F9: 0
D10: Sospensione e riattivazione | E10: 100 | F10: 0
D11: Cmor (Corrispettivo morosità pregresse) | E11: 100 | F11: 0
D12: Altro | E12: 100 | F12: 0
B13: Mercato | C13: =SUM(E13:F17) -> 1 | D13: Presunti contratti non richiesti
D14: Cambio fornitore | E14: 1
D15: Condizioni economiche nuovi contratti
D16: Doppia fatturazione
D17: Altro
B18: Fatturazione | C18: =SUM(E18:F24) -> 2 | D18: Autolettura (uso della)
D19: Ricalcoli
D20: Consumi stimati errati | E20: 2
D21: Periodicità e fattura di chiusura
D22: Pagamenti e rimborsi
D23: Importi per consumi risalenti a più di due anni per i quali non risulti maturata la prescrizione
D24: Altro
B25: Misura | C25: =SUM(E25:F28) -> 3 | D25: Cambio misuratore
D26: Verifica e ricostruzioni
D27: Mancate letture | E27: 3
D28: Altro
B29: Connessioni, lavori e qualità tecnica | C29: =SUM(E29:F33) -> 4 | D29: Preventivi/attivazioni/lavori (tempi e costi)
D30: Continuità | E30: 4
D31: Valori della tensione/pressione
D32: Sicurezza
D33: Altro
B34: Bonus sociale | C34: =SUM(E34:F37) -> 5 | D34: Validazioni
D35: Cessazioni | E35: 5
D36: Erogazioni
D37: Altro
B38: Qualità commerciale | C38: =SUM(E38:F40) -> 6 | D38: Servizio clienti (call center, sportelli, altri servizi)
D39: Indennizzi
D40: Altro | E40: 6
B41: Altro | C41: =SUM(E41:F41) -> 7 | E41: 7
...

Sheet Reclami ricevuti dom-ui
A1: 2.3 | B1: Reclami scritti ricevuti (articolo 36.2)
B2: Clienti domestici in ultima istanza
B4: Argomento reclamo | C4: Totale per argomento (elettrico, gas, aspetti comuni) | D4: Sub argomento reclamo | E4: Reclami per fornitura elettrica | F4: Reclami per fornitura gas
B5: Contratti | C5: =SUM(E5:F8) -> 6000 | D5: Recesso | E5: 1000 | F5: 500
D6: Volture e subentri | E6: 1000 | F6: 500
D7: Modifiche unilaterali | E7: 1000 | F7: 500
D8: Altro | E8: 1000 | F8: 500
B9: Morosità e sospensione | C9: =SUM(E9:F12) -> 8000 | D9: Morosità | E9: 2000 | F9: 0
D10: Sospensione e riattivazione | E10: 2000 | F10: 0
D11: Cmor (Corrispettivo morosità pregresse) | E11: 2000 | F11: 0
D12: Altro | E12: 2000 | F12: 0
B13: Mercato | C13: =SUM(E13:F17) -> 1 | D13: Presunti contratti non richiesti
D14: Cambio fornitore | E14: 1
D15: Condizioni economiche nuovi contratti
D16: Doppia fatturazione
D17: Altro
B18: Fatturazione | C18: =SUM(E18:F24) -> 2 | D18: Autolettura (uso della)
D19: Ricalcoli
D20: Consumi stimati errati | E20: 2
D21: Periodicità e fattura di chiusura
D22: Pagamenti e rimborsi
D23: Importi per consumi risalenti a più di due anni per i quali non risulti maturata la prescrizione
D24: Altro
B25: Misura | C25: =SUM(E25:F28) -> 3 | D25: Cambio misuratore
D26: Verifica e ricostruzioni
D27: Mancate letture | E27: 3
D28: Altro
B29: Connessioni, lavori e qualità tecnica | C29: =SUM(E29:F33) -> 4 | D29: Preventivi/attivazioni/lavori (tempi e costi)
D30: Continuità | E30: 4
D31: Valori della tensione/pressione
D32: Sicurezza
D33: Altro
B34: Bonus sociale | C34: =SUM(E34:F37) -> 5 | D34: Validazioni
D35: Cessazioni | E35: 5
D36: Erogazioni
D37: Altro
B38: Qualità commerciale | C38: =SUM(E38:F40) -> 6 | D38: Servizio clienti (call center, sportelli, altri servizi)
D39: Indennizzi
D40: Altro | E40: 6
B41: Altro | C41: =SUM(E41:F41) -> 7 | E41: 7
...

Sheet Reclami ricevuti nondom-lib
A1: 2.4 | B1: Reclami scritti ricevuti (articolo 36.2)
B2: Clienti non domestici del mercato libero
B4: Argomento reclamo | C4: Totale per argomento (elettrico, gas, aspetti comuni) | D4: Sub argomento reclamo | E4: Reclami per fornitura elettrica | F4: Reclami per fornitura gas | G4: Reclami per aspetti comuni
B5: Contratti | C5: =SUM(E5:G8) -> 450 | D5: Recesso | E5: 50 | F5: 50 | G5: 5
D6: Volture e subentri | E6: 60 | F6: 40 | G6: 10
D7: Modifiche unilaterali | E7: 70 | F7: 30 | G7: 15
D8: Altro | E8: 80 | F8: 20 | G8: 20
B9: Morosità e sospensione | C9: =SUM(E9:G12) -> 300 | D9: Morosità | E9: 25 | F9: 0 | G9: 5
D10: Sospensione e riattivazione | E10: 50 | F10: 0 | G10: 10
D11: Cmor (Corrispettivo morosità pregresse) | E11: 75 | F11: 0 | G11: 15
D12: Altro | E12: 100 | F12: 0 | G12: 20
B13: Mercato | C13: =SUM(E13:G17) -> 1 | D13: Presunti contratti non richiesti
D14: Cambio fornitore | E14: 1
D15: Condizioni economiche nuovi contratti
D16: Doppia fatturazione
D17: Altro
B18: Fatturazione | C18: =SUM(E18:G24) -> 2 | D18: Autolettura (uso della)
D19: Ricalcoli
D20: Consumi stimati errati | E20: 2
D21: Periodicità e fattura di chiusura
D22: Pagamenti e rimborsi
D23: Importi per consumi risalenti a più di due anni per i quali non risulti maturata la prescrizione
D24: Altro
B25: Misura | C25: =SUM(E25:G28) -> 3 | D25: Cambio misuratore
D26: Verifica e ricostruzioni
D27: Mancate letture | E27: 3
D28: Altro
B29: Connessioni, lavori e qualità tecnica | C29: =SUM(E29:G33) -> 4 | D29: Preventivi/attivazioni/lavori (tempi e costi)
D30: Continuità | E30: 4
D31: Valori della tensione/pressione
D32: Sicurezza
D33: Altro
B34: Bonus sociale | C34: =SUM(E34:G37) -> 5 | D34: Validazioni
D35: Cessazioni | E35: 5
D36: Erogazioni
D37: Altro
B38: Qualità commerciale | C38: =SUM(E38:G40) -> 6 | D38: Servizio clienti (call center, sportelli, altri servizi)
D39: Indennizzi
D40: Altro | E40: 6
B41: Altro | C41: =SUM(E41:G41) -> 7 | E41: 7
...

Sheet Reclami ricevuti nondom-ui
A1: 2.5 | B1: Reclami scritti ricevuti (articolo 36.2)
B2: Clienti non domestici in ultima istanza
B4: Argomento reclamo | C4: Totale per argomento (elettrico, gas, aspetti comuni) | D4: Sub argomento reclamo | E4: Reclami per fornitura elettrica | F4: Reclami per fornitura gas
B5: Contratti | C5: =SUM(E5:F8) -> 6000 | D5: Recesso | E5: 1000 | F5: 500
D6: Volture e subentri | E6: 1000 | F6: 500
D7: Modifiche unilaterali | E7: 1000 | F7: 500
D8: Altro | E8: 1000 | F8: 500
B9: Morosità e sospensione | C9: =SUM(E9:F12) -> 8000 | D9: Morosità | E9: 2000 | F9: 0
D10: Sospensione e riattivazione | E10: 2000 | F10: 0
D11: Cmor (Corrispettivo morosità pregresse) | E11: 2000 | F11: 0
D12: Altro | E12: 2000 | F12: 0
B13: Mercato | C13: =SUM(E13:F17) -> 1 | D13: Presunti contratti non richiesti
D14: Cambio fornitore | E14: 1
D15: Condizioni economiche nuovi contratti
D16: Doppia fatturazione
D17: Altro
B18: Fatturazione | C18: =SUM(E18:F24) -> 2 | D18: Autolettura (uso della)
D19: Ricalcoli
D20: Consumi stimati errati | E20: 2
D21: Periodicità e fattura di chiusura
D22: Pagamenti e rimborsi
D23: Importi per consumi risalenti a più di due anni per i quali non risulti maturata la prescrizione
D24: Altro
B25: Misura | C25: =SUM(E25:F28) -> 3 | D25: Cambio misuratore
D26: Verifica e ricostruzioni
D27: Mancate letture | E27: 3
D28: Altro
B29: Connessioni, lavori e qualità tecnica | C29: =SUM(E29:F33) -> 4 | D29: Preventivi/attivazioni/lavori (tempi e costi)
D30: Continuità | E30: 4
D31: Valori della tensione/pressione
D32: Sicurezza
D33: Altro
B34: Bonus sociale | C34: =SUM(E34:F37) -> 5 | D34: Validazioni
D35: Cessazioni | E35: 5
D36: Erogazioni
D37: Altro
B38: Qualità commerciale | C38: =SUM(E38:F40) -> 6 | D38: Servizio clienti (call center, sportelli, altri servizi)
D39: Indennizzi
D40: Altro | E40: 6
B41: Altro | C41: =SUM(E41:F41) -> 7 | E41: 7
...

Sheet Richieste ricevute
A1: 3.x | B1: Richieste scritte di informazioni ricevute (articolo 36.2)
B2: Clienti domestici del mercato libero
B4: NOTE
B5: Le schede relative alle richieste scritte di informazioni ricevute nell'anno di riferimento riproducono struttura e contenuti delle schede relative ai reclami ricevuti (schede da 2.1 a 2.5)

Sheet Prestazioni dom-lib
A1: 4.1 | B1: Prestazioni eseguite (articolo 36.3), tempo complessivo di esecuzione (articolo 36.4), indennizzi (articolo 36.5)
B2: Clienti domestici del mercato libero
B4: Clienti domestici del mercato libero Fornitura elettricità | C4: Prestazioni eseguite | H4: Tempo | I4: Indennizzi
C5: Numero complessivo di prestazioni eseguite nell’anno di riferimento | D5: Numero di prestazioni eseguite entro lo standard nell'anno di riferimento | E5: Numero di prestazioni eseguite oltre lo standard nell'anno di riferimento | H5: tempo complessivo di esecuzione | I5: Numero indennizzi erogati nell'anno di riferimento | J5: Importo indennizzi erogati nell'anno di riferimento
E6: per altre cause | F6: per cause esterne | G6: per forza maggiore
B7: Risposte a reclami scritti | C7: =SUM(D7:G7) -> 130 | D7: 100 | E7: 20 | F7: 5 | G7: 5 | H7: 3504 | I7: 17 | J7: 442
B8: Rettifiche di fatturazione | C8: =SUM(D8:G8) -> 20 | D8: 10 | E8: 8 | F8: 1 | G8: 1 | H8: 593 | I8: 5 | J8: 210
B9: Rettifica di doppia fatturazione | C9: =SUM(D9:G9) -> 5 | D9: 3 | E9: 2 | F9: 0 | G9: 0 | H9: 107 | I9: 4 | J9: 120
B10: Risposte a richieste di informazioni | C10: =SUM(D10:G10) -> 86 | D10: 80 | E10: 5 | F10: 1 | G10: 0 | H10: 1711
B11: Totale | C11: =SUM(C7:C10) -> 241 | D11: =SUM(D7:D10) -> 193 | E11: =SUM(E7:E10) -> 35 | F11: =SUM(F7:F10) -> 7 | G11: =SUM(G7:G10) -> 6 | H11: =SUM(H7:H10) -> 5915 | I11: =SUM(I7:I10) -> 26 | J11: =SUM(J7:J10) -> 772
B13: Clienti domestici del mercato libero Fornitura gas | C13: Prestazioni eseguite | H13: Tempo | I13: Indennizzi
C14: Numero complessivo di prestazioni eseguite nell’anno di riferimento | D14: Numero di prestazioni eseguite entro lo standard nell'anno di riferimento | E14: Numero di prestazioni eseguite oltre lo standard nell'anno di riferimento | H14: tempo complessivo di esecuzione | I14: Numero indennizzi erogati nell'anno di riferimento | J14: Importo indennizzi erogati nell'anno di riferimento
E15: per altre cause | F15: per cause esterne | G15: per forza maggiore
B16: Risposte a reclami scritti | C16: =SUM(D16:G16) -> 130 | D16: 100 | E16: 20 | F16: 5 | G16: 5 | H16: 3504 | I16: 17 | J16: 442
B17: Rettifiche di fatturazione | C17: =SUM(D17:G17) -> 20 | D17: 10 | E17: 8 | F17: 1 | G17: 1 | H17: 593 | I17: 5 | J17: 210
B18: Rettifica di doppia fatturazione | C18: =SUM(D18:G18) -> 5 | D18: 3 | E18: 2 | F18: 0 | G18: 0 | H18: 107 | I18: 4 | J18: 120
B19: Risposte a richieste di informazioni | C19: =SUM(D19:G19) -> 86 | D19: 80 | E19: 5 | F19: 1 | G19: 0 | H19: 1711
B20: Totale | C20: =SUM(C16:C19) -> 241 | D20: =SUM(D16:D19) -> 193 | E20: =SUM(E16:E19) -> 35 | F20: =SUM(F16:F19) -> 7 | G20: =SUM(G16:G19) -> 6 | H20: =SUM(H16:H19) -> 5915 | I20: =SUM(I16:I19) -> 26 | J20: =SUM(J16:J19) -> 772
B22: Clienti domestici del mercato libero Aspetti comuni | C22: Prestazioni eseguite | H22: Tempo | I22: Indennizzi
C23: Numero complessivo di prestazioni eseguite nell’anno di riferimento | D23: Numero di prestazioni eseguite entro lo standard nell'anno di riferimento | E23: Numero di prestazioni eseguite oltre lo standard nell'anno di riferimento | H23: tempo complessivo di esecuzione | I23: Numero indennizzi erogati nell'anno di riferimento | J23: Importo indennizzi erogati nell'anno di riferimento
E24: per altre cause | F24: per cause esterne | G24: per forza maggiore
B25: Risposte a reclami scritti | C25: =SUM(D25:G25) -> 130 | D25: 100 | E25: 20 | F25: 5 | G25: 5 | H25: 3504 | I25: 17 | J25: 442
B26: Rettifiche di fatturazione | C26: =SUM(D26:G26) -> 20 | D26: 10 | E26: 8 | F26: 1 | G26: 1 | H26: 593 | I26: 5 | J26: 210
B27: Rettifica di doppia fatturazione | C27: =SUM(D27:G27) -> 5 | D27: 3 | E27: 2 | F27: 0 | G27: 0 | H27: 107 | I27: 4 | J27: 120
B28: Risposte a richieste di informazioni | C28: =SUM(D28:G28) -> 86 | D28: 80 | E28: 5 | F28: 1 | G28: 0 | H28: 1711
B29: Totale | C29: =SUM(C25:C28) -> 241 | D29: =SUM(D25:D28) -> 193 | E29: =SUM(E25:E28) -> 35 | F29: =SUM(F25:F28) -> 7 | G29: =SUM(G25:G28) -> 6 | H29: =SUM(H25:H28) -> 5915 | I29: =SUM(I25:I28) -> 26 | J29: =SUM(J25:J28) -> 772
B32: Clienti domestici del mercato libero TOTALE | C32: Prestazioni eseguite | H32: Tempo | I32: Indennizzi
C33: Numero complessivo di prestazioni eseguite nell’anno di riferimento | D33: Numero di prestazioni eseguite entro lo standard nell'anno di riferimento | E33: Numero di prestazioni eseguite oltre lo standard nell'anno di riferimento | H33: tempo complessivo di esecuzione | I33: Numero indennizzi erogati nell'anno di riferimento | J33: Importo indennizzi erogati nell'anno di riferimento
E34: per altre cause | F34: per cause esterne | G34: per forza maggiore
B35: Risposte a reclami scritti | C35: =C7+C16+C25 -> 390 | D35: =D7+D16+D25 -> 300 | E35: =E7+E16+E25 -> 60 | F35: =F7+F16+F25 -> 15 | G35: =G7+G16+G25 -> 15 | H35: =H7+H16+H25 -> 10512 | I35: =I7+I16+I25 -> 51 | J35: =J7+J16+J25 -> 1326
B36: Rettifiche di fatturazione | C36: =C8+C17+C26 -> 60 | D36: =D8+D17+D26 -> 30 | E36: =E8+E17+E26 -> 24 | F36: =F8+F17+F26 -> 3 | G36: =G8+G17+G26 -> 3 | H36: =H8+H17+H26 -> 1779 | I36: =I8+I17+I26 -> 15 | J36: =J8+J17+J26 -> 630
B37: Rettifica di doppia fatturazione | C37: =C9+C18+C27 -> 15 | D37: =D9+D18+D27 -> 9 | E37: =E9+E18+E27 -> 6 | F37: =F9+F18+F27 -> 0 | G37: =G9+G18+G27 -> 0 | H37: =H9+H18+H27 -> 321 | I37: =I9+I18+I27 -> 12 | J37: =J9+J18+J27 -> 360
B38: Risposte a richieste di informazioni | C38: =C10+C19+C28 -> 258 | D38: =D10+D19+D28 -> 240 | E38: =E10+E19+E28 -> 15 | F38: =F10+F19+F28 -> 3 | G38: =G10+G19+G28 -> 0 | H38: =H10+H19+H28 -> 5133
B39: Totale | C39: =SUM(C35:C38) -> 723 | D39: =SUM(D35:D38) -> 579 | E39: =SUM(E35:E38) -> 105 | F39: =SUM(F35:F38) -> 21 | G39: =SUM(G35:G38) -> 18 | H39: =SUM(H35:H38) -> 17745 | I39: =SUM(I35:I38) -> 78 | J39: =SUM(J35:J38) -> 2316

Sheet Prestazioni dom-vuln
A1: 4.2 | B1: Prestazioni eseguite (articolo 36.3), tempo complessivo di esecuzione (articolo 36.4), indennizzi (articolo 36.5)
B2: Clienti in tutela
B4: Clienti domestici in vulnerabilità Fornitura elettricità | C4: Prestazioni eseguite | H4: Tempo | I4: Indennizzi
C5: Numero complessivo di prestazioni eseguite nell’anno di riferimento | D5: Numero di prestazioni eseguite entro lo standard nell'anno di riferimento | E5: Numero di prestazioni eseguite oltre lo standard nell'anno di riferimento | H5: tempo complessivo di esecuzione | I5: Numero indennizzi erogati nell'anno di riferimento | J5: Importo indennizzi erogati nell'anno di riferimento
E6: per altre cause | F6: per cause esterne | G6: per forza maggiore
B7: Risposte a reclami scritti | C7: =SUM(D7:G7) -> 130 | D7: 100 | E7: 20 | F7: 5 | G7: 5 | H7: 3504 | I7: 17 | J7: 442
B8: Rettifiche di fatturazione | C8: =SUM(D8:G8) -> 20 | D8: 10 | E8: 8 | F8: 1 | G8: 1 | H8: 593 | I8: 5 | J8: 210
B9: Rettifica di doppia fatturazione | C9: =SUM(D9:G9) -> 5 | D9: 3 | E9: 2 | F9: 0 | G9: 0 | H9: 107 | I9: 4 | J9: 120
B10: Risposte a richieste di informazioni | C10: =SUM(D10:G10) -> 86 | D10: 80 | E10: 5 | F10: 1 | G10: 0 | H10: 1711
B11: Totale | C11: =SUM(C7:C10) -> 241 | D11: =SUM(D7:D10) -> 193 | E11: =SUM(E7:E10) -> 35 | F11: =SUM(F7:F10) -> 7 | G11: =SUM(G7:G10) -> 6 | H11: =SUM(H7:H10) -> 5915 | I11: =SUM(I7:I10) -> 26 | J11: =SUM(J7:J10) -> 772
B13: Clienti domestici in vulnerabilità Fornitura gas | C13: Prestazioni eseguite | H13: Tempo | I13: Indennizzi
C14: Numero complessivo di prestazioni eseguite nell’anno di riferimento | D14: Numero di prestazioni eseguite entro lo standard nell'anno di riferimento | E14: Numero di prestazioni eseguite oltre lo standard nell'anno di riferimento | H14: tempo complessivo di esecuzione | I14: Numero indennizzi erogati nell'anno di riferimento | J14: Importo indennizzi erogati nell'anno di riferimento
E15: per altre cause | F15: per cause esterne | G15: per forza maggiore
B16: Risposte a reclami scritti | C16: =SUM(D16:G16) -> 130 | D16: 100 | E16: 20 | F16: 5 | G16: 5 | H16: 3504 | I16: 17 | J16: 442
B17: Rettifiche di fatturazione | C17: =SUM(D17:G17) -> 20 | D17: 10 | E17: 8 | F17: 1 | G17: 1 | H17: 593 | I17: 5 | J17: 210
B18: Rettifica di doppia fatturazione | C18: =SUM(D18:G18) -> 5 | D18: 3 | E18: 2 | F18: 0 | G18: 0 | H18: 107 | I18: 4 | J18: 120
B19: Risposte a richieste di informazioni | C19: =SUM(D19:G19) -> 86 | D19: 80 | E19: 5 | F19: 1 | G19: 0 | H19: 1711
B20: Totale | C20: =SUM(C16:C19) -> 241 | D20: =SUM(D16:D19) -> 193 | E20: =SUM(E16:E19) -> 35 | F20: =SUM(F16:F19) -> 7 | G20: =SUM(G16:G19) -> 6 | H20: =SUM(H16:H19) -> 5915 | I20: =SUM(I16:I19) -> 26 | J20: =SUM(J16:J19) -> 772
B23: Clienti domestici in tutela TOTALE | C23: Prestazioni eseguite | H23: Tempo | I23: Indennizzi
C24: Numero complessivo di prestazioni eseguite nell’anno di riferimento | D24: Numero di prestazioni eseguite entro lo standard nell'anno di riferimento | E24: Numero di prestazioni eseguite oltre lo standard nell'anno di riferimento | H24: tempo complessivo di esecuzione | I24: Numero indennizzi erogati nell'anno di riferimento | J24: Importo indennizzi erogati nell'anno di riferimento
E25: per altre cause | F25: per cause esterne | G25: per forza maggiore
B26: Risposte a reclami scritti | C26: =C7+C16 -> 260 | D26: =D7+D16 -> 200 | E26: =E7+E16 -> 40 | F26: =F7+F16 -> 10 | G26: =G7+G16 -> 10 | H26: =H7+H16 -> 7008 | I26: =I7+I16 -> 34 | J26: =J7+J16 -> 884
B27: Rettifiche di fatturazione | C27: =C8+C17 -> 40 | D27: =D8+D17 -> 20 | E27: =E8+E17 -> 16 | F27: =F8+F17 -> 2 | G27: =G8+G17 -> 2 | H27: =H8+H17 -> 1186 | I27: =I8+I17 -> 10 | J27: =J8+J17 -> 420
B28: Rettifica di doppia fatturazione | C28: =C9+C18 -> 10 | D28: =D9+D18 -> 6 | E28: =E9+E18 -> 4 | F28: =F9+F18 -> 0 | G28: =G9+G18 -> 0 | H28: =H9+H18 -> 214 | I28: =I9+I18 -> 8 | J28: =J9+J18 -> 240
B29: Risposte a richieste di informazioni | C29: =C10+C19 -> 172 | D29: =D10+D19 -> 160 | E29: =E10+E19 -> 10 | F29: =F10+F19 -> 2 | G29: =G10+G19 -> 0 | H29: =H10+H19 -> 3422
B30: Totale | C30: =SUM(C26:C29) -> 482 | D30: =SUM(D26:D29) -> 386 | E30: =SUM(E26:E29) -> 70 | F30: =SUM(F26:F29) -> 14 | G30: =SUM(G26:G29) -> 12 | H30: =SUM(H26:H29) -> 11830 | I30: =SUM(I26:I29) -> 52 | J30: =SUM(J26:J29) -> 1544

Sheet Prestazioni nondom-lib
A1: 4.3 | B1: Prestazioni eseguite (articolo 36.3), tempo complessivo di esecuzione (articolo 36.4), indennizzi (articolo 36.5)
B2: Clienti non domestici del mercato libero
B4: Clienti non domestici del mercato libero Fornitura elettricità | C4: Prestazioni eseguite | H4: Tempo | I4: Indennizzi
C5: Numero complessivo di prestazioni eseguite nell’anno di riferimento | D5: Numero di prestazioni eseguite entro lo standard nell'anno di riferimento | E5: Numero di prestazioni eseguite oltre lo standard nell'anno di riferimento | H5: tempo complessivo di esecuzione | I5: Numero indennizzi erogati nell'anno di riferimento | J5: Importo indennizzi erogati nell'anno di riferimento
E6: per altre cause | F6: per cause esterne | G6: per forza maggiore
B7: Risposte a reclami scritti | C7: =SUM(D7:G7) -> 130 | D7: 100 | E7: 20 | F7: 5 | G7: 5 | H7: 3504 | I7: 17 | J7: 442
B8: Rettifiche di fatturazione | C8: =SUM(D8:G8) -> 20 | D8: 10 | E8: 8 | F8: 1 | G8: 1 | H8: 593 | I8: 5 | J8: 210
B9: Rettifica di doppia fatturazione | C9: =SUM(D9:G9) -> 5 | D9: 3 | E9: 2 | F9: 0 | G9: 0 | H9: 107 | I9: 4 | J9: 120
B10: Risposte a richieste di informazioni | C10: =SUM(D10:G10) -> 86 | D10: 80 | E10: 5 | F10: 1 | G10: 0 | H10: 1711
B11: Totale | C11: =SUM(C7:C10) -> 241 | D11: =SUM(D7:D10) -> 193 | E11: =SUM(E7:E10) -> 35 | F11: =SUM(F7:F10) -> 7 | G11: =SUM(G7:G10) -> 6 | H11: =SUM(H7:H10) -> 5915 | I11: =SUM(I7:I10) -> 26 | J11: =SUM(J7:J10) -> 772
B13: Clienti non domestici del mercato libero Fornitura gas | C13: Prestazioni eseguite | H13: Tempo | I13: Indennizzi
C14: Numero complessivo di prestazioni eseguite nell’anno di riferimento | D14: Numero di prestazioni eseguite entro lo standard nell'anno di riferimento | E14: Numero di prestazioni eseguite oltre lo standard nell'anno di riferimento | H14: tempo complessivo di esecuzione | I14: Numero indennizzi erogati nell'anno di riferimento | J14: Importo indennizzi erogati nell'anno di riferimento
E15: per altre cause | F15: per cause esterne | G15: per forza maggiore
B16: Risposte a reclami scritti | C16: =SUM(D16:G16) -> 130 | D16: 100 | E16: 20 | F16: 5 | G16: 5 | H16: 3504 | I16: 17 | J16: 442
B17: Rettifiche di fatturazione | C17: =SUM(D17:G17) -> 20 | D17: 10 | E17: 8 | F17: 1 | G17: 1 | H17: 593 | I17: 5 | J17: 210
B18: Rettifica di doppia fatturazione | C18: =SUM(D18:G18) -> 5 | D18: 3 | E18: 2 | F18: 0 | G18: 0 | H18: 107 | I18: 4 | J18: 120
B19: Risposte a richieste di informazioni | C19: =SUM(D19:G19) -> 86 | D19: 80 | E19: 5 | F19: 1 | G19: 0 | H19: 1711
B20: Totale | C20: =SUM(C16:C19) -> 241 | D20: =SUM(D16:D19) -> 193 | E20: =SUM(E16:E19) -> 35 | F20: =SUM(F16:F19) -> 7 | G20: =SUM(G16:G19) -> 6 | H20: =SUM(H16:H19) -> 5915 | I20: =SUM(I16:I19) -> 26 | J20: =SUM(J16:J19) -> 772
B22: Clienti non domestici del mercato libero Aspetti comuni | C22: Prestazioni eseguite | H22: Tempo | I22: Indennizzi
C23: Numero complessivo di prestazioni eseguite nell’anno di riferimento | D23: Numero di prestazioni eseguite entro lo standard nell'anno di riferimento | E23: Numero di prestazioni eseguite oltre lo standard nell'anno di riferimento | H23: tempo complessivo di esecuzione | I23: Numero indennizzi erogati nell'anno di riferimento | J23: Importo indennizzi erogati nell'anno di riferimento
E24: per altre cause | F24: per cause esterne | G24: per forza maggiore
B25: Risposte a reclami scritti | C25: =SUM(D25:G25) -> 130 | D25: 100 | E25: 20 | F25: 5 | G25: 5 | H25: 3504 | I25: 17 | J25: 442
B26: Rettifiche di fatturazione | C26: =SUM(D26:G26) -> 20 | D26: 10 | E26: 8 | F26: 1 | G26: 1 | H26: 593 | I26: 5 | J26: 210
B27: Rettifica di doppia fatturazione | C27: =SUM(D27:G27) -> 5 | D27: 3 | E27: 2 | F27: 0 | G27: 0 | H27: 107 | I27: 4 | J27: 120
B28: Risposte a richieste di informazioni | C28: =SUM(D28:G28) -> 86 | D28: 80 | E28: 5 | F28: 1 | G28: 0 | H28: 1711
B29: Totale | C29: =SUM(C25:C28) -> 241 | D29: =SUM(D25:D28) -> 193 | E29: =SUM(E25:E28) -> 35 | F29: =SUM(F25:F28) -> 7 | G29: =SUM(G25:G28) -> 6 | H29: =SUM(H25:H28) -> 5915 | I29: =SUM(I25:I28) -> 26 | J29: =SUM(J25:J28) -> 772
B32: Clienti non domestici del mercato libero TOTALE | C32: Prestazioni eseguite | H32: Tempo | I32: Indennizzi
C33: Numero complessivo di prestazioni eseguite nell’anno di riferimento | D33: Numero di prestazioni eseguite entro lo standard nell'anno di riferimento | E33: Numero di prestazioni eseguite oltre lo standard nell'anno di riferimento | H33: tempo complessivo di esecuzione | I33: Numero indennizzi erogati nell'anno di riferimento | J33: Importo indennizzi erogati nell'anno di riferimento
E34: per altre cause | F34: per cause esterne | G34: per forza maggiore
B35: Risposte a reclami scritti | C35: =C7+C16+C25 -> 390 | D35: =D7+D16+D25 -> 300 | E35: =E7+E16+E25 -> 60 | F35: =F7+F16+F25 -> 15 | G35: =G7+G16+G25 -> 15 | H35: =H7+H16+H25 -> 10512 | I35: =I7+I16+I25 -> 51 | J35: =J7+J16+J25 -> 1326
B36: Rettifiche di fatturazione | C36: =C8+C17+C26 -> 60 | D36: =D8+D17+D26 -> 30 | E36: =E8+E17+E26 -> 24 | F36: =F8+F17+F26 -> 3 | G36: =G8+G17+G26 -> 3 | H36: =H8+H17+H26 -> 1779 | I36: =I8+I17+I26 -> 15 | J36: =J8+J17+J26 -> 630
B37: Rettifica di doppia fatturazione | C37: =C9+C18+C27 -> 15 | D37: =D9+D18+D27 -> 9 | E37: =E9+E18+E27 -> 6 | F37: =F9+F18+F27 -> 0 | G37: =G9+G18+G27 -> 0 | H37: =H9+H18+H27 -> 321 | I37: =I9+I18+I27 -> 12 | J37: =J9+J18+J27 -> 360
B38: Risposte a richieste di informazioni | C38: =C10+C19+C28 -> 258 | D38: =D10+D19+D28 -> 240 | E38: =E10+E19+E28 -> 15 | F38: =F10+F19+F28 -> 3 | G38: =G10+G19+G28 -> 0 | H38: =H10+H19+H28 -> 5133
B39: Totale | C39: =SUM(C35:C38) -> 723 | D39: =SUM(D35:D38) -> 579 | E39: =SUM(E35:E38) -> 105 | F39: =SUM(F35:F38) -> 21 | G39: =SUM(G35:G38) -> 18 | H39: =SUM(H35:H38) -> 17745 | I39: =SUM(I35:I38) -> 78 | J39: =SUM(J35:J38) -> 2316

Sheet Prestazioni ultima istanza
A1: 4.4 | B1: Prestazioni eseguite (articolo 36.3), tempo complessivo di esecuzione (articolo 36.4), indennizzi (articolo 36.5)
B2: Clienti in ultima istanza
B4: Clienti domestici in ultima istanza Fornitura elettricità | C4: Prestazioni eseguite | H4: Tempo | I4: Indennizzi
C5: Numero complessivo di prestazioni eseguite nell’anno di riferimento | D5: Numero di prestazioni eseguite entro lo standard nell'anno di riferimento | E5: Numero di prestazioni eseguite oltre lo standard nell'anno di riferimento | H5: tempo complessivo di esecuzione | I5: Numero indennizzi erogati nell'anno di riferimento | J5: Importo indennizzi erogati nell'anno di riferimento
E6: per altre cause | F6: per cause esterne | G6: per forza maggiore
B7: Risposte a reclami scritti | C7: =SUM(D7:G7) -> 130 | D7: 100 | E7: 20 | F7: 5 | G7: 5 | H7: 3504 | I7: 17 | J7: 442
B8: Rettifiche di fatturazione | C8: =SUM(D8:G8) -> 20 | D8: 10 | E8: 8 | F8: 1 | G8: 1 | H8: 593 | I8: 5 | J8: 210
B9: Rettifica di doppia fatturazione | C9: =SUM(D9:G9) -> 5 | D9: 3 | E9: 2 | F9: 0 | G9: 0 | H9: 107 | I9: 4 | J9: 120
B10: Risposte a richieste di informazioni | C10: =SUM(D10:G10) -> 86 | D10: 80 | E10: 5 | F10: 1 | G10: 0 | H10: 1711
B11: Totale | C11: =SUM(C7:C10) -> 241 | D11: =SUM(D7:D10) -> 193 | E11: =SUM(E7:E10) -> 35 | F11: =SUM(F7:F10) -> 7 | G11: =SUM(G7:G10) -> 6 | H11: =SUM(H7:H10) -> 5915 | I11: =SUM(I7:I10) -> 26 | J11: =SUM(J7:J10) -> 772
B13: Clienti domestici in ultima istanza Fornitura gas | C13: Prestazioni eseguite | H13: Tempo | I13: Indennizzi
C14: Numero complessivo di prestazioni eseguite nell’anno di riferimento | D14: Numero di prestazioni eseguite entro lo standard nell'anno di riferimento | E14: Numero di prestazioni eseguite oltre lo standard nell'anno di riferimento | H14: tempo complessivo di esecuzione | I14: Numero indennizzi erogati nell'anno di riferimento | J14: Importo indennizzi erogati nell'anno di riferimento
E15: per altre cause | F15: per cause esterne | G15: per forza maggiore
B16: Risposte a reclami scritti | C16: =SUM(D16:G16) -> 130 | D16: 100 | E16: 20 | F16: 5 | G16: 5 | H16: 3504 | I16: 17 | J16: 442
B17: Rettifiche di fatturazione | C17: =SUM(D17:G17) -> 20 | D17: 10 | E17: 8 | F17: 1 | G17: 1 | H17: 593 | I17: 5 | J17: 210
B18: Rettifica di doppia fatturazione | C18: =SUM(D18:G18) -> 5 | D18: 3 | E18: 2 | F18: 0 | G18: 0 | H18: 107 | I18: 4 | J18: 120
B19: Risposte a richieste di informazioni | C19: =SUM(D19:G19) -> 86 | D19: 80 | E19: 5 | F19: 1 | G19: 0 | H19: 1711
B20: Totale | C20: =SUM(C16:C19) -> 241 | D20: =SUM(D16:D19) -> 193 | E20: =SUM(E16:E19) -> 35 | F20: =SUM(F16:F19) -> 7 | G20: =SUM(G16:G19) -> 6 | H20: =SUM(H16:H19) -> 5915 | I20: =SUM(I16:I19) -> 26 | J20: =SUM(J16:J19) -> 772
B22: Clienti non domestici in ultima istanza Fornitura elettricità | C22: Prestazioni eseguite | H22: Tempo | I22: Indennizzi
C23: Numero complessivo di prestazioni eseguite nell’anno di riferimento | D23: Numero di prestazioni eseguite entro lo standard nell'anno di riferimento | E23: Numero di prestazioni eseguite oltre lo standard nell'anno di riferimento | H23: tempo complessivo di esecuzione | I23: Numero indennizzi erogati nell'anno di riferimento | J23: Importo indennizzi erogati nell'anno di riferimento
E24: per altre cause | F24: per cause esterne | G24: per forza maggiore
B25: Risposte a reclami scritti | C25: =SUM(D25:G25) -> 130 | D25: 100 | E25: 20 | F25: 5 | G25: 5 | H25: 3504 | I25: 17 | J25: 442
B26: Rettifiche di fatturazione | C26: =SUM(D26:G26) -> 20 | D26: 10 | E26: 8 | F26: 1 | G26: 1 | H26: 593 | I26: 5 | J26: 210
B27: Rettifica di doppia fatturazione | C27: =SUM(D27:G27) -> 5 | D27: 3 | E27: 2 | F27: 0 | G27: 0 | H27: 107 | I27: 4 | J27: 120
B28: Risposte a richieste di informazioni | C28: =SUM(D28:G28) -> 86 | D28: 80 | E28: 5 | F28: 1 | G28: 0 | H28: 1711
B29: Totale | C29: =SUM(C25:C28) -> 241 | D29: =SUM(D25:D28) -> 193 | E29: =SUM(E25:E28) -> 35 | F29: =SUM(F25:F28) -> 7 | G29: =SUM(G25:G28) -> 6 | H29: =SUM(H25:H28) -> 5915 | I29: =SUM(I25:I28) -> 26 | J29: =SUM(J25:J28) -> 772
B31: Clienti non domestici in ultima istanza Fornitura gas | C31: Prestazioni eseguite | H31: Tempo | I31: Indennizzi
C32: Numero complessivo di prestazioni eseguite nell’anno di riferimento | D32: Numero di prestazioni eseguite entro lo standard nell'anno di riferimento | E32: Numero di prestazioni eseguite oltre lo standard nell'anno di riferimento | H32: tempo complessivo di esecuzione | I32: Numero indennizzi erogati nell'anno di riferimento | J32: Importo indennizzi erogati nell'anno di riferimento
E33: per altre cause | F33: per cause esterne | G33: per forza maggiore
B34: Risposte a reclami scritti | C34: =SUM(D34:G34) -> 130 | D34: 100 | E34: 20 | F34: 5 | G34: 5 | H34: 3504 | I34: 17 | J34: 442
B35: Rettifiche di fatturazione | C35: =SUM(D35:G35) -> 20 | D35: 10 | E35: 8 | F35: 1 | G35: 1 | H35: 593 | I35: 5 | J35: 210
B36: Rettifica di doppia fatturazione | C36: =SUM(D36:G36) -> 5 | D36: 3 | E36: 2 | F36: 0 | G36: 0 | H36: 107 | I36: 4 | J36: 120
B37: Risposte a richieste di informazioni | C37: =SUM(D37:G37) -> 86 | D37: 80 | E37: 5 | F37: 1 | G37: 0 | H37: 1711
B38: Totale | C38: =SUM(C34:C37) -> 241 | D38: =SUM(D34:D37) -> 193 | E38: =SUM(E34:E37) -> 35 | F38: =SUM(F34:F37) -> 7 | G38: =SUM(G34:G37) -> 6 | H38: =SUM(H34:H37) -> 5915 | I38: =SUM(I34:I37) -> 26 | J38: =SUM(J34:J37) -> 772
B41: Clienti domestici in ultima istanza TOTALE | C41: Prestazioni eseguite | H41: Tempo | I41: Indennizzi
C42: Numero complessivo di prestazioni eseguite nell’anno di riferimento | D42: Numero di prestazioni eseguite entro lo standard nell'anno di riferimento | E42: Numero di prestazioni eseguite oltre lo standard nell'anno di riferimento | H42: tempo complessivo di esecuzione | I42: Numero indennizzi erogati nell'anno di riferimento | J42: Importo indennizzi erogati nell'anno di riferimento
E43: per altre cause | F43: per cause esterne | G43: per forza maggiore
B44: Risposte a reclami scritti | C44: =C7+C16 -> 260 | D44: =D7+D16 -> 200 | E44: =E7+E16 -> 40 | F44: =F7+F16 -> 10 | G44: =G7+G16 -> 10 | H44: =H7+H16 -> 7008 | I44: =I7+I16 -> 34 | J44: =J7+J16 -> 884
B45: Rettifiche di fatturazione | C45: =C8+C17 -> 40 | D45: =D8+D17 -> 20 | E45: =E8+E17 -> 16 | F45: =F8+F17 -> 2 | G45: =G8+G17 -> 2 | H45: =H8+H17 -> 1186 | I45: =I8+I17 -> 10 | J45: =J8+J17 -> 420
B46: Rettifica di doppia fatturazione | C46: =C9+C18 -> 10 | D46: =D9+D18 -> 6 | E46: =E9+E18 -> 4 | F46: =F9+F18 -> 0 | G46: =G9+G18 -> 0 | H46: =H9+H18 -> 214 | I46: =I9+I18 -> 8 | J46: =J9+J18 -> 240
...

Sheet Indicatore reclami
A1: 5 | B1: Reclami ricevuti ogni mille clienti (articolo 37.3 lettera a)
B2: Calcolato dal sistema
B4: Categoria | C4: R numero totale reclami | D4: N numero medio clienti | E4: Reclami ricevuti ogni mille clienti
B5: Cliente domestico del mercato libero | C5: ='Reclami ricevuti dom-lib'!C42 -> 1168 | D5: ='Clienti serviti'!C21 -> 345909.09 | E5: =IF(C5/D5*1000>1, C5/D5*1000,"Meno di uno") -> 3.3766097
B6: Cliente domestico in vulnerabilità | C6: ='Reclami ricevuti dom-vuln'!C42 -> 1028 | D6: ='Clienti serviti'!D21 -> 202777.78 | E6: =IF(C6/D6*1000>1, C6/D6*1000,"Meno di uno") -> 5.069589
B7: Cliente domestico in ultima istanza | C7: - | D7: - | E7: -
B8: Cliente non domestico del mercato libero | C8: ='Reclami ricevuti nondom-lib'!C42 -> 778 | D8: ='Clienti serviti'!F21 -> 73571.429 | E8: =IF(C8/D8*1000>1, C8/D8*1000,"Meno di uno") -> 10.574757
B9: Cliente non domestico in ultima istanza | C9: - | D9: - | E9: -
B12: Note
B13: I dati in grassetto sono utilizzati nella Scheda qualità
B14: Gli indicatori relativi ai clienti domestici e non domestici in ultima istanza sono calcolati dal sistema ma non sono pubblicati nella scheda qualità

Sheet Tempo medio
A1: 6 | B1: Tempo medio di esecuzione delle prestazioni (articolo 37.3 lettera b)
B2: Calcolato dal sistema
B4: Tempo medio | C4: Cliente domestico del mercato libero | D4: Cliente domestico in vulnerabilità | E4: Cliente domestico in ultima istanza | F4: Cliente non domestico del mercato libero | G4: Cliente non domestico in ultima istanza
B5: Risposte a reclami scritti | C5: ='Prestazioni dom-lib'!H35/('Prestazioni dom-lib'!D35+'Prestazioni dom-lib'!E35) -> 29.2 | D5: ='Prestazioni dom-vuln'!H26/('Prestazioni dom-vuln'!D26+'Prestazioni dom-vuln'!E26) -> 29.2 | E5: ='Prestazioni ultima istanza'!H44/('Prestazioni ultima istanza'!D44+'Prestazioni ultima istanza'!E44) -> 29.2 | F5: ='Prestazioni nondom-lib'!H35/('Prestazioni nondom-lib'!D35+'Prestazioni nondom-lib'!E35) -> 29.2 | G5: ='Prestazioni ultima istanza'!H53/('Prestazioni ultima istanza'!D53+'Prestazioni ultima istanza'!E53) -> 29.2
B6: Rettifiche di fatturazione | C6: ='Prestazioni dom-lib'!H36/('Prestazioni dom-lib'!D36+'Prestazioni dom-lib'!E36) -> 32.944444 | D6: ='Prestazioni dom-vuln'!H27/('Prestazioni dom-vuln'!D27+'Prestazioni dom-vuln'!E27) -> 32.944444 | E6: ='Prestazioni ultima istanza'!H45/('Prestazioni ultima istanza'!D45+'Prestazioni ultima istanza'!E45) -> 32.944444 | F6: ='Prestazioni nondom-lib'!H36/('Prestazioni nondom-lib'!D36+'Prestazioni nondom-lib'!E36) -> 32.944444 | G6: ='Prestazioni ultima istanza'!H54/('Prestazioni ultima istanza'!D54+'Prestazioni ultima istanza'!E54) -> 32.944444
B7: Rettifica di doppia fatturazione | C7: ='Prestazioni dom-lib'!H37/('Prestazioni dom-lib'!D37+'Prestazioni dom-lib'!E37) -> 21.4 | D7: ='Prestazioni dom-vuln'!H28/('Prestazioni dom-vuln'!D28+'Prestazioni dom-vuln'!E28) -> 21.4 | E7: ='Prestazioni ultima istanza'!H46/('Prestazioni ultima istanza'!D46+'Prestazioni ultima istanza'!E46) -> 21.4 | F7: ='Prestazioni nondom-lib'!H37/('Prestazioni nondom-lib'!D37+'Prestazioni nondom-lib'!E37) -> 21.4 | G7: ='Prestazioni ultima istanza'!H55/('Prestazioni ultima istanza'!D55+'Prestazioni ultima istanza'!E55) -> 21.4
B8: Risposte a richieste di informazioni | C8: ='Prestazioni dom-lib'!H38/('Prestazioni dom-lib'!D38+'Prestazioni dom-lib'!E38) -> 20.129412 | D8: ='Prestazioni dom-vuln'!H29/('Prestazioni dom-vuln'!D29+'Prestazioni dom-vuln'!E29) -> 20.129412 | E8: ='Prestazioni ultima istanza'!H47/('Prestazioni ultima istanza'!D47+'Prestazioni ultima istanza'!E47) -> 20.129412 | F8: ='Prestazioni nondom-lib'!H38/('Prestazioni nondom-lib'!D38+'Prestazioni nondom-lib'!E38) -> 20.129412 | G8: ='Prestazioni ultima istanza'!H56/('Prestazioni ultima istanza'!D56+'Prestazioni ultima istanza'!E56) -> 20.129412
B15: Note
B16: i dati in grassetto sono utilizzati nella Scheda qualità
B17: Gli indicatori relativi ai clienti domestici e non domestici in ultima istanza sono calcolati dal sistema ma non sono pubblicati nella scheda qualità
